Workbook

Sheet آموزشی
A1: فرم داوری جشنواره ملی حرکت
A3: حوزه انجمن برتر - فعاليت آموزشي
A5: رديف | B5: شاخص کلان | C5: شاخص | E5: امتیاز داور
A6: 1 | B6: ارزیابی کمی و شكلي فعالیت‌ها ( 35 امتیاز) | C6: برگزاري برنامه‌هاي ملي يا بين‌المللي (6 امتياز)
C7: برگزاري برنامه‌هاي استاني يا منطقه‌اي (4 امتياز)
C8: برگزاري جلسات و كارگاه‌هاي در حوزه با مهارت‌هاي دانشگاهي (مطالعه، تحقيق و پژوهش) ( 3 امتیاز)
C9: برگزاري جلسات آموزش نرم افزارهاي تخصصي (3 امتياز) | F9: داور محترم لطفا در فرم داوري مربوط به این حوزه رقابتي، کلیه شيت ها را امتيازدهي فرماييد.
C10: برگزاري جلسات آموزش كارافريني و مهارت‌هاي بازار كار (5 امتياز)
C11: برگزاري جلسات آموزشی رايگان (3 امتياز)
C12: تنوع و تكثر برنامه‌هاي آموزشي (5 امتياز)
C13: بهره‌مندی از استادان بیرون دانشگاه (بخش صنعت یا دیگر فضاهای کسب و کار) (6 امتیاز)
D14: مجموع امتیاز ارزیابی کمی (حداکثر 35) | E14: =SUM(E6:E13) -> 0
A15: 2 | B15: ارزيابي ميزان مشاركت و کیفیت همکاری‌ها (30 امتیاز)‌ | C15: استقبال از برنامه‌هاي آموزشي (5 امتياز)
C16: همكاري گروهي و كار جمعي دانشجویی (5 امتياز)
C17: نقش استادان و خصوصاً استاد مشاور (5 امتياز)
C18: برگزاري برنامه مشترك و با همكاري نهادها و سازمان‌هاي تخصصي برون‌دانشگاهي(7 امتياز)
C19: همكاري با انجمن علمي استادان (5 امتياز)
C20: همكاري با ديگر انجمن‌هاي علمي دانشجويي دانشگاه (3 امتياز)
D21: مجموع امتياز ارزيابي مشاركت (حداكثر 30) | E21: =SUM(E15:E20) -> 0
B22: ارزیابی علمی و محتوايي فعالیت‌ها ( 35 امتیاز) | C22: نوآوري و خلاقيت در عناوين و موضوعات برنامه‌ها (5 امتیاز)
C23: نوآوري و خلاقيت در شيوه برگزاري برنامه‌ها (4 امتیاز)
C24: كيفيت برگزاري برنامه‌ها (5 امتیاز)
C25: پرداختن به موضوعات جديد علمي و تخصصی (6 امتیاز)
C26: استمرار برگزاري برنامه‌ها و تداوم دوره‌ها از مراحل مقدماتی تا پیشرفته (5 امتیاز)
C27: سطح علمي استادان برنامه (5 امتیاز)
C28: توجه به مسئوليت‌هاي اجتماعي (رویدادها و مناسبت‌ها، محیط زیست، مسائل ملی یا منطقه‌ای و...) (5 امتیاز)
D29: مجموع امتياز ارزيابي علمي(حداكثر 35) | E29: =SUM(E22:E28) -> 0
D30: جمع کل امتیاز (از 100) | E30: =SUM(E14,E21,E29) -> 0
A31: ویژگی منحصر بفرد ( درصورتی‌که معیارهای فوق به آن اشاره نکرده باشد.)
A32: محل امضاي اعضاي كميته داوري (در مرحله دانشگاهي):
A33: نکته: در صورت نیاز به توضیح بیشتر با مسئول دبيرخانه جشنواره حرکت (خانم اکبری) به شماره 82233261-021 تماس حاصل فرمائید.

Sheet رويداد علمي
A1: فرم داوری جشنواره ملی حرکت
A3: حوزه انجمن برتر -رويداد علمي
A5: رديف | B5: شاخص کلان | C5: شاخص | E5: امتیاز داور
A6: 1 | B6: ارزیابی کمی و شكلي برنامه‌ها (35 امتیاز) | C6: برگزاري برنامه‌هاي ملي يا بين‌المللي (6 امتياز)
C7: برگزاري برنامه‌هاي استاني يا منطقه‌اي (4 امتياز)
C8: برگزاري نمايشگاه (4 امتیاز)
C9: برگزاري بزرگداشت (3 امتیاز)
C10: برگزاري كنفرانس (6 امتیاز)
C11: برگزاري سمينار (4 امتیاز) | F11: داور محترم لطفا در فرم داوري مربوط به این حوزه رقابتي، کلیه شيت ها را امتيازدهي فرماييد.
C12: برگزاري مسابقه (3 امتیاز)
C13: تنوع و تكثر برنامه‌ها (5 امتیاز)
D14: مجموع امتیاز ارزیابی کمی (حداکثر 35) | E14: =SUM(E6:E13) -> 0
A15: 2 | B15: ارزيابي ميزان مشاركت و کیفیت همكاري‌ها (30 امتیاز) | C15: استقبال از برنامه‌ها (5 امتیاز)
C16: همكاري گروهي و كارجمعي دانشجویی (5 امتیاز)
C17: نقش استادان و خصوصاً استاد مشاور (5 امتیاز)
C18: برگزاري برنامه بصورت مشترك و با همكاري نهادها و سازمان‌هاي تخصصي برون دانشگاهي (5 امتیاز)
C19: همكاري با انجمن علمي استادان (5 امتیاز)
C20: همكاري با ديگر انجمن هاي علمي دانشجويي دانشگاه (2 امتیاز)
C21: همكاري با اتحاديه انجمن هاي علمي دانشجويي (3 امتیاز)
D22: مجموع امتياز ارزيابي مشاركت (حداكثر 30) | E22: =SUM(E15:E21) -> 0
B23: ارزیابی علمی و محتوايي برنامه‌ها ( 35 امتیاز) | C23: نوآوري و خلاقيت در عناوين و موضوعات برنامه‌ها (5 امتیاز)
C24: نوآوري و خلاقيت در شيوه برگزاري برنامه‌ها (4 امتیاز)
C25: كيفيت برگزاري برنامه‌ها (5 امتیاز)
C26: پرداختن به موضوعات جديد علمي (6 امتیاز)
C27: استمرار برگزاري برنامه از دوره‌هاي پيشين (5 امتیاز)
C28: سطح علمي سخنرانان كليدي (5 امتیاز)
C29: توجه به مسئوليت‌هاي اجتماعي (رویدادها و مناسبت‌ها، محیط زیست، مسائل ملی یا منطقه‌ای و...) (5 امتیاز)
D30: مجموع امتياز ارزيابي علمي(حداكثر 35) | E30: =SUM(E23:E29) -> 0
D31: جمع کل امتیاز (از 100) | E31: =E14+E22+E30 -> 0
A32: ویژگی منحصر بفرد ( درصورتی‌که معیارهای فوق به آن اشاره نکرده باشد.)
A33: محل امضاي اعضاي كميته داوري (در مرحله دانشگاهي):
A34: نکته: در صورت نیاز به توضیح بیشتر با مسئول دبيرخانه جشنواره حرکت (خانم اکبری) به شماره 82233261-021 تماس حاصل فرمائید.

Sheet گفتگوي علمي و تخصصي
A1: فرم داوری جشنواره ملی حرکت
A3: حوزه انجمن برتر -گفتگوي علمي و تخصصي
A5: رديف | B5: شاخص کلان | C5: شاخص | E5: امتیاز داور
A6: 1 | B6: ارزیابی کمی و شكلي برنامه‌ها ( 35 امتیاز) | C6: برگزاري برنامه‌هاي ملي يا بين‌المللي (6 امتياز)
C7: برگزاري برنامه‌هاي استاني يا منطقه‌اي (4 امتياز)
C8: برگزاري كرسي آزاد‌انديشي (5 امتياز)
C9: برگزاري جلسات هم انديشي دانشجويي (3 امتياز)
C10: برگزاري ميزگرد تخصصي (3 امتياز) | F10: داور محترم لطفا در فرم داوري مربوط به این حوزه رقابتي، کلیه شيت ها را امتيازدهي فرماييد.
C11: برگزاري مناظره‌هاي علمي (4 امتياز)
C12: برگزاري جلسات با سخنران ملي يا بين‌المللي (5 امتياز)
C13: تنوع و تكثر برنامه‌هاي گفتگو محور (5 امتياز)
D14: مجموع امتیاز ارزیابی کمی (حداکثر 35) | E14: =SUM(E6:E13) -> 0
A15: 2 | B15: ارزيابي ميزان مشاركت و کیفیت همكاري‌ها (30 امتیاز) | C15: استقبال از برنامه‌ها (5 امتياز)
C16: همكاري گروهي و كار جمعي دانشجویی (5 امتیاز)
C17: نقش استادان و خصوصاً استاد مشاور (5 امتياز)
C18: برگزاري برنامه به صورت مشترك و با همكاري نهادها و سازمان‌هاي تخصصي مرتبط بيرون دانشگاه (5 امتياز)
C19: همكاري با انجمن علمي استادان (5 امتياز)
C20: همكاري با ديگر انجمن‌هاي علمي دانشجويي دانشگاه (2 امتياز)
C21: همكاري با اتحاديه انجمن‌هاي علمي دانشجويي (3 امتياز)
D22: مجموع امتياز ارزيابي مشاركت (حداكثر 30) | E22: =SUM(E15:E21) -> 0
B23: ارزیابی علمی و محتوايي برنامه‌ها ( 35 امتیاز) | C23: نو‌آوري و خلاقيت در عناوين برنامه‌ها (5 امتیاز)
C24: نو‌آوري و خلاقيت در شيوه برگزاري برنامه‌ها (4 امتیاز)
C25: كيفيت برنامه‌ها از نظر محتوا (3 امتیاز)
C26: پرداختن به چالش‌هاي مهم علمي در رشته تخصصي (3 امتیاز)
C27: استمرار برگزاري برنامه از دوره‌هاي پيشين (5 امتیاز)
C28: سطح علمي سخنرانان كليدي (5 امتیاز)
C29: ارزيابي اثر گذاري و اهميت برنامه‌ها (3 امتیاز)
C30: ارزيابي نقش برنامه ها در ترویج فرهنگ گفتگو تخصصي و مداراي علمي (2 امتیاز)
C31: توجه به مسئوليت‌هاي اجتماعي (رویدادها و مناسبت‌ها، محیط زیست، مسائل ملی یا منطقه‌ای و...) (5 امتیاز)
D32: مجموع امتياز ارزيابي علمي(حداكثر 35) | E32: =SUM(E23:E31) -> 0
D33: جمع کل امتیاز (از 100) | E33: =SUM(E14,E22,E32) -> 0
A34: ویژگی منحصر بفرد ( درصورتی‌که معیارهای فوق به آن اشاره نکرده باشد.)
A35: محل امضاي اعضاي كميته داوري (در مرحله دانشگاهي):
A36: نکته: در صورت نیاز به توضیح بیشتر با مسئول دبيرخانه جشنواره حرکت (خانم اکبری) به شماره 82233261-021 تماس حاصل فرمائید.

Sheet ارتباطات و همكاري هاي علمي
A1: فرم داوری جشنواره ملی حرکت
A3: حوزه انجمن برتر -ارتباطات و همكاري هاي علمي
A5: رديف | B5: شاخص کلان | C5: شاخص | E5: امتیاز داور
A6: 1 | B6: ارزیابی کمی و شكلي برنامه‌ها ( 30 امتیاز) | C6: برگزاري برنامه‌هاي ملي يا بين‌المللي (6 امتياز) | F6: داور محترم لطفا در فرم داوري مربوط به این حوزه رقابتي، کلیه شيت ها را امتيازدهي فرماييد.
C7: برگزاري برنامه‌هاي استاني يا منطقه‌اي (4 امتياز)
C8: جذب اسپانسر (4 امتياز)
C9: انعقاد تفاهم نامه (6 امتياز)
C10: برگزاري جلسه مشترك (3 امتياز)
C11: برگزاري بازديد (2 امتياز)
C12: تنوع و تكثر برنامه‌ها (5 امتياز)
D13: مجموع امتیاز ارزیابی کمی (حداکثر 30) | E13: =SUM(E6:E12) -> 0
A14: 2 | B14: ارزيابي ميزان مشاركت و کیفیت همكاري‌ها (30 امتیاز) | C14: استقبال از برنامه‌ها (5 امتياز)
C15: همكاري گروهي و كار جمعي دانشجویی (5 امتیاز)
C16: نقش استادان و خصوصاً استاد مشاور (5 امتياز)
C17: برگزاري برنامه به‌ صورت مشترك و با همكاري نهادها و سازمان‌هاي تخصصي مرتبط بيرون دانشگاه (5 امتياز)
C18: همكاري با انجمن علمي استادان (5 امتياز)
C19: همكاري با ديگر انجمن‌هاي علمي دانشجويي دانشگاه (2 امتياز)
C20: همكاري با اتحاديه انجمن‌هاي علمي دانشجويي (3 امتياز)
D21: مجموع امتياز ارزيابي مشاركت(حداكثر 30) | E21: =SUM(E14:E20) -> 0
A22: 3 | B22: ارزیابی علمی و محتوايي برنامه‌ها ( 40 امتیاز) | C22: نو‌آوري و خلاقيت در عناوين برنامه‌ها (5 امتیاز)
C23: نو‌آوري و خلاقيت در شيوه برگزاري برنامه‌ها (4 امتیاز)
C24: كيفيت ارتباط و سطح همكاري‌ها (5 امتیاز)
C25: پرداختن به چالش‌هاي مهم صنعت يا جامعه در رشته تخصصي (6 امتیاز)
C26: استمرار همكاري از دوره‌هاي پيشين (5 امتیاز)
C27: جايگاه و نقش سازمان يا فرد طرف همكاري (5 امتیاز)
C28: ارزيابي اثر گذاري؛ اهميت و نتايج همكاري‌ها (5 امتیاز)
C29: توجه به مسئوليت‌هاي اجتماعي (رویدادها و مناسبت‌ها، محیط زیست، مسائل ملی یا منطقه‌ای و...) (5 امتیاز)
D30: مجموع امتياز ارزيابي علمي(حداكثر 40) | E30: =SUM(E22:E29) -> 0
D31: جمع کل امتیاز (از 100) | E31: =SUM(E13,E21,E30) -> 0
A32: ویژگی منحصر بفرد ( درصورتی‌که معیارهای فوق به آن اشاره نکرده باشد.)
A33: محل امضاي اعضاي كميته داوري (در مرحله دانشگاهي):
A34: نکته: در صورت نیاز به توضیح بیشتر با مسئول دبيرخانه جشنواره حرکت (خانم اکبری) به شماره 82233261-021 تماس حاصل فرمائید.

Sheet مستندسازي
A1: فرم داوری جشنواره ملی حرکت
A3: حوزه انجمن برتر - مستند سازي
A5: رديف | B5: شاخص کلان | C5: شاخص | E5: امتیاز داور
A6: 1 | B6: ارزيابي گزارش و شیوه مستندسازي(50 امتياز) | C6: صفحه آرایی و طراحی مناسب گزارش (9 امتیاز)
C7: جامعیت گزارش با توجه به شاخص‌های داوری (15 امتیاز)
C8: ویراستاری مناسب، متن شیوا و روان و رعایت خط و دستور زبان (9 امتیاز)
C9: استفاده مناسب از تصاویر گویا (10 امتیاز)
C10: انتشار خبر برنامه‌ها در سایت، خبرگزاری‌ها و ... (7 امتیاز)
D11: مجموع امتياز ارزيابي مستندسازي(حداكثر 50) | E11: =SUM(E6:E10) -> 0

Sheet انجمن برگزیده
A1: فرم داوری جشنواره ملی حرکت
A3: جمعبندی داوری انجمن برتر
A5: رديف | B5: شاخص | C5: ارزیابی داور | D5: ضریب | E5: امتیاز
A6: 1 | B6: فعالیت آموزشی | C6: =آموزشی!E30 -> 0 | D6: 0.3 | E6: =C6*D6 -> 0
A7: 2 | B7: رويداد علمي | C7: ='رويداد علمي'!E31 -> 0 | D7: 0.2 | E7: =C7*D7 -> 0
A8: 3 | B8: گفتگوي علمي و تخصصي | C8: ='گفتگوي علمي و تخصصي'!E33 -> 0 | D8: 0.15 | E8: =C8*D8 -> 0
A9: 4 | B9: ارتباطات و همكاري هاي علمي | C9: ='ارتباطات و همكاري هاي علمي'!E31 -> 0 | D9: 0.15 | E9: =C9*D9 -> 0
A10: 5 | B10: مستندسازي | C10: =مستندسازي!E11 -> 0 | D10: 0.4 | E10: =C10*D10 -> 0
D11: جمع امتياز (از 100) | E11: =SUM(E6:E10) -> 0
A12: محل امضاي اعضاي كميته داوري (در مرحله دانشگاهي):
