Workbook

Sheet آموزشی
A1: فرم داوری جشنواره ملی حرکت
A3: بخش انجمن علمی فعال- حوزه آموزش
A5: رديف | B5: شاخص کلان | C5: شاخص جزء | D5: معیار | E5: امتیاز داور
A6: 1 | B6: ارزیابی کمی و شكلي ( 30 امتیاز) | C6: سطح برنامه ( 10 امتياز) | D6: ملی و بین المللی (حداكثر 5 امتیاز) منطقه ای یا استانی (حداكثر 3 امتیاز) دانشگاهی یا دانشکده ای (حداكثر 2 امتياز) | E6: 0
C7: دامنه فعاليت‌هاي آموزشي(با توجه به خلاءهاي آموزشي دانشگاه و نيازهاي جامعه) (15 امتياز) | D7: مهارت های مطالعه، تحقیق و پژوهش (هر فعالیت 1 امتیاز) نرم افزار تخصصی (هر فعالیت 2 امتیاز) تخصص‌ها و مهارت‌های مرتبط با رشته تخصصی، بازارکار و مباحث کارآفرینی (هر فعالیت 3 امتیاز) | E7: 0
C8: مجموع ساعات دوره‌ها ( 5 امتياز) | D8: به ازاء هر 10 ساعت 1 امتیاز | E8: 0
D9: مجموع امتیاز ارزیابی کمی (حداکثر 30) | E9: =SUM(E6:E8) -> 0
A10: 2 | B10: ارزيابي ميزان مشاركت و همكاري (25 امتیاز) | C10: جذب حداکثری مخاطب در برنامه ها (10 امتیاز) | D10: به ازاء هر 10 نفر 1 امتیاز | E10: 0
C11: همکاری با دیگر مجموعه ها (10 امتیاز) | D11: به ازاء هر مجموعه 3 امتياز | E11: 0
C12: نقش موثر شوراي مركزي (3امتياز) | E12: 0
C13: نقش مشاركتي استاد مشاور (2امتياز) | E13: 0
D14: مجموع امتیاز ارزیابی مشارکت (حداکثر 25) | E14: =SUM(E10:E13) -> 0
A15: 3 | B15: ارزیابی علمی و محتوايي ( 30 امتیاز) | C15: سطح علمی مدرس يا سخنران ( 10 امتیاز) | D15: ارشد (هر مدرس 2 امتیاز) دکترا و یا شاغل در صنعت (هر مدرس 3 امتیاز) | E15: 0
C16: نوآورانه، خلاقانه و مرتبط بودن با رشته(15 امتیاز) | E16: 0
C17: استمرار فعالیت از دوره های قبل و برگزاری چندمین دوره (5 امتیاز) | D17: به ازاء هر دوره 2 امتياز | E17: 0
D18: مجموع امتياز كيفي و علمي(حداكثر 30) | E18: =SUM(E15:E17) -> 0
A19: 4 | B19: ارزيابي گزارش و مستندسازي(15امتياز) | C19: انتشار اخبار فعاليت ها(5 امتياز) | D19: انتشار اخبار فعاليت‌ها در فضاي مجازي، پايگاههاي خبري، سايت‌ها و غيره...(5 امتياز) | E19: 0
C21: رعايت استانداردهاي مستندسازي( 10 امتياز) | D21: كيفيت ظاهري(4 امتياز) | E21: 0
D22: جامع بودن گزارش(6 امتياز) | E22: 0
D23: مجموع امتياز ارزيابي گزارش مستندسازي(حداكثر 15) | E23: =SUM(E19:E22) -> 0
D24: جمع کل امتیاز (از 100) | E24: =SUM(E9,E14,E18,E23) -> 0
A25: نکات مهم: 1- چنانچه علاوه بر موضوعات جدول فوق نیاز به افزودن توضیحی در ارزیابی خود می بینید، آن توضیح را در قسمت توضیحات ضروری اضافه کنید. 2- اگر در خصوص معیارهای ذکر شده در جدول فوق ابهامی وجود دارد با کارشناس جشنواره حرکت (آقای کرمی) با شماره 82233216 تماس حاصل فرمایید.
A26: توضیحات ضروری:

Sheet ترویجی
A1: فرم داوری جشنواره ملی حرکت
A3: بخش انجمن علمی فعال- حوزه ترویج
A5: رديف | B5: شاخص کلان | C5: شاخص جزء | D5: معیار | E5: امتیاز داور
A6: 1 | B6: ارزیابی کمی و شكلي ( 30 امتیاز) | C6: سطح برنامه (15 امتياز) | D6: ملی و بین المللی ( به ازاء هر برنامه 5 امتیاز) منطقه ای یا استانی (به ازاء هر برنامه 3 امتیاز) دانشگاهی یا دانشکده ای ( به ازاء بر برنامه 1 امتياز) | E6: 0
C7: توازن و تناسب حوزه های ترویجی (15امتياز) | D7: بازديد علمي، پخش فيلم، سخنراني، تقدیر، معارفه (هر فعاليت 1 امتياز) نمايشگاه، نشست (هر فعالیت 2 امتیاز) همايش، سمينار، جشنواره، کنفرانس (هر فعالیت 4 امتیاز) | E7: 0
D8: مجموع امتیاز ارزیابی کمی (حداکثر 30) | E8: =E6+E7 -> 0
A9: 2 | B9: ارزيابي ميزان مشاركت و همكاري ( 25 امتیاز) | C9: جذب حداکثری مخاطب در برنامه ها ( 10 امتیاز) | D9: به ازاء هر 20 نفر حداکثر 1 امتیاز | E9: 0
C10: همکاری با دیگر مجموعه ها (10 امتیاز) | D10: به ازاء هر مجموعه 3 امتياز | E10: 0
C11: نقش موثر شوراي مركزي (3امتياز) | E11: 0
C12: نقش مشاركتي استاد مشاور (2امتياز) | E12: 0
D13: مجموع امتیاز ارزیابی مشارکت (حداکثر 25) | E13: =E9+E10+E11+E12 -> 0
A14: 3 | B14: ارزیابی علمی و محتوايي ( 30 امتیاز) | C14: نوآورانه، خلاقانه و مرتبط بودن با رشته ( 18 امتیاز) | E14: 0
C16: استمرار فعالیت از دوره های قبل و برگزاری چندمین دوره ( 12 امتیاز) | D16: به ازاء هر دوره 3 امتياز | E16: 0
D17: مجموع امتیاز ارزیابی کیفی (حداکثر 30) | E17: =E14+E16 -> 0
A18: 4 | B18: ارزيابي گزارش و مستندسازي(15امتياز) | C18: انتشار اخبار فعاليت ها(5 امتياز) | D18: انتشار اخبار فعاليت‌ها در فضاي مجازي، پايگاههاي خبري، سايت‌ها و غيره...(5 امتياز) | E18: 0
C19: رعايت استانداردهاي مستندسازي( 10 امتياز) | D19: كيفيت ظاهري(4 امتياز) | E19: 0
D20: جامع بودن گزارش(6 امتياز) | E20: 0
D21: مجموع امتياز ارزيابي گزارش مستندسازي(حداكثر 15) | E21: =E18+E19+E20 -> 0
D22: جمع کل امتیاز (از 100) | E22: =E17+E13+E8+E21 -> 0
A23: نکات مهم: 1- چنانچه علاوه بر موضوعات جدول فوق نیاز به افزودن توضیحی در ارزیابی خود می بینید، آن توضیح را در قسمت توضیحات ضروری اضافه کنید. 2- اگر در خصوص معیارهای ذکر شده در جدول فوق ابهامی وجود دارد با کارشناس جشنواره حرکت (آقای کرمی) با شماره 82233216 تماس حاصل فرمایید.
A24: توضیحات ضروری:

Sheet مسابقه
A1: فرم داوری جشنواره ملی حرکت
A3: بخش انجمن علمی فعال- حوزه مسابقه
A5: رديف | B5: شاخص کلان | C5: شاخص جزء | D5: معیار | E5: امتیاز داور
A6: 1 | B6: ارزیابی کمی و شكلي ( 30 امتیاز) | C6: سطح مسابقه ( 30 امتیاز) | D6: ملی و بین المللی ( به ازاء هر مسابقه 10 امتیاز) منطقه ای یا استانی (به ازاء هر مسابقه 8 امتیاز) دانشگاهی یا دانشکده ای (به ازاء هر مسابقه 5 امتیاز) | E6: 0
D7: مجموع امتیاز ارزیابی کمی (حداکثر30) | E7: =E6 -> 0
A8: 2 | B8: ارزيابي ميزان مشاركت و همكاري ( 25 امتیاز) | C8: تعداد تیم های شرکت کننده (12 امتیاز) | D8: به ازاء هر 3 تیم 1 امتیاز | E8: 0
C9: مشارکت از دیگر انجمن‌ها و دانشگاه‌ها (8 امتياز) | D9: به ازاء هر مجموعه 2 امتياز | E9: 0
C10: نقش موثر شوراي مركزي (3 امتياز) | E10: 0
C11: نقش مشاركتي استاد مشاور (2 امتياز) | E11: 0
D12: مجموع امتیاز ارزیابی مشارکت (حداکثر 25) | E12: =E9+E8+E10+E11 -> 0
A13: 3 | B13: ارزیابی علمی و محتوايي ( 30 امتیاز) | C13: نوآورانه، خلاقانه، مرتبط بودن با رشته و سطح علمی مسابقات (10 امتیاز) | E13: 0
C14: ارزیابی از سبک برگزاری مسابقه و سطح داوران ( 10امتياز) | E14: 0
C15: استمرار مسابقه از دوره های قبل و برگزاری چندمین دوره (10 امتیاز) | D15: به ازاء هر دوره 3 امتياز | E15: 0
D16: مجموع امتیاز ارزیابی کیفی (حداکثر30) | E16: =E13+E14+E15 -> 0
A17: 4 | B17: ارزيابي گزارش و مستندسازي(15امتياز) | C17: انتشار اخبار فعاليت ها(5 امتياز) | D17: انتشار اخبار فعاليت‌ها در فضاي مجازي، پايگاههاي خبري، سايت‌ها و غيره...(5 امتياز) | E17: 0
C18: رعايت استانداردهاي مستندسازي( 10 امتياز) | D18: كيفيت ظاهري(4 امتياز) | E18: 0
D19: جامع بودن گزارش(6 امتياز) | E19: 0
D20: مجموع امتياز ارزيابي گزارش مستندسازي(حداكثر 15) | E20: =E17+E18+E19 -> 0
D21: جمع کل امتیاز (از 100) | E21: =E16+E12+E7+E20 -> 0
A22: نکات مهم: 1- چنانچه علاوه بر موضوعات جدول فوق نیاز به افزودن توضیحی در ارزیابی خود می بینید، آن توضیح را در قسمت توضیحات ضروری اضافه کنید. 2- اگر در خصوص معیارهای ذکر شده در جدول فوق ابهامی وجود دارد با کارشناس جشنواره حرکت (آقای کرمی) با شماره 82233216 تماس حاصل فرمایید.
A23: توضیحات ضروری:

Sheet نشریه
A1: فرم داوری جشنواره ملی حرکت
A3: بخش انجمن علمی فعال- حوزه نشریه
A5: رديف | B5: شاخص کلان | C5: شاخص جزء | D5: معیار | E5: امتیاز داور
A6: 1 | B6: ارزیابی شکلی و ساختاری ( 35 امتیاز) | C6: صفحه آرایی، طراحی و ویراستاری ( 15 امتیاز) | E6: 0
C7: نظم دوره انتشار ( 10 امتیاز) | E7: 0
C8: گستره توزیع ( 10 امتیاز) | D8: دانشگاهی حداكثر 5 امتیاز؛ کشوری حداكثر 10 امتیاز | E8: 0
D9: مجموع امتیاز ارزیابی کمی (حداکثر 35) | E9: =SUM(E6:E8) -> 0
A10: 2 | B10: ارزیابی میزان مشارکت و همکاری (30 امتیاز) | C10: مشارکت در اجرائیات نشریه و توزیع مسئولیت ها ( 5 امتیاز) | E10: 0
C11: نقش مشارکتی اعضای شورای مرکزی و دانشجویان در مقالات و گزارش های نشریه ( 15 امتیاز) | E11: 0
C12: نقش مشارکتی،نظارتي و داوري استاد مشاور و دیگر اساتید در مقالات علمی نشریه ( 10 امتیاز) | E12: 0
D13: مجموع امتیاز ارزیابی مشارکت (حداکثر 30) | E13: =SUM(E10:E12) -> 0
A14: 3 | B14: ارزیابی محتوایی و علمی (35 امتیاز) | C14: جدید، کاربردی، بین رشته ای بودن موضوع مقالات ( 10 امتياز) | E14: 0
C15: ارزیابی محتوایی و علمی از مقالات ( 20 امتیاز) | E15: 0
C16: موفقیت های کسب شده ( 5 امتیاز) | D16: دانشگاهی حداكثر 2 امتیاز؛ کشوری حداكثر3 امتیاز | E16: 0
D17: مجموع امتیاز ارزیابی کیفی (حداکثر35) | E17: =SUM(E14:E16) -> 0
D18: جمع کل امتیاز (از 100) | E18: =E9+E13+E17 -> 0
A19: نکات مهم: 1- چنانچه علاوه بر موضوعات جدول فوق نیاز به افزودن توضیحی در ارزیابی خود می بینید، آن توضیح را در قسمت توضیحات ضروری اضافه کنید. 2- اگر در خصوص معیارهای ذکر شده در جدول فوق ابهامی وجود دارد با کارشناس جشنواره حرکت (آقای کرمی) با شماره 82233216 تماس حاصل فرمایید.
A20: توضیحات ضروری:

Sheet کتاب
A1: فرم داوری جشنواره ملی حرکت
A3: بخش انجمن علمی فعال- حوزه کتاب
A5: رديف | B5: شاخص کلان | C5: شاخص جزء | D5: معیار | E5: امتیاز داور
A6: 1 | B6: ارزیابی شکلی و ساختاری ( 35 امتیاز) | C6: صفحه آرایی، طراحی و ویراستاری ( 5 امتیاز) | E6: 0
C7: اخذ مجوز انتشار ( 5 امتیاز) | E7: 0
C8: رعایت ساختار استاندارد اعم از داشتن منابع و ماخذ و نمایه ( 15 امتیاز) | E8: 0
C9: تالیف یا ترجمه ( 10 امتیاز) | D9: اثر ترجمه ای 5 امتیاز؛ تالیفی 10 امتیاز | E9: 0
D10: مجموع امتیاز ارزیابی کمی (حداکثر 35) | E10: =SUM(E6:E9) -> 0
A11: 2 | B11: ارزیابی میزان مشارکت و همکاری (30 امتیاز) | C11: فعالیت تیمی و گروهی با محوریت اعضای شورای مرکزی ( 15 امتیاز) | D11: با مشارکت اعضاي شوراي مركزي به ازاء هر فرد (حداكثر 5 امتياز) و با همكاري اعضاي انجمن (حداكثر 5 امتياز) | E11: 0
C12: همکاری با دیگر انجمن های علمی و یا مجموعه های تخصصی ( 5 امتياز) | E12: 0
C13: درج نام یا لوگوی انجمن علمی در کتاب ( 5 امتیاز) | E13: 0
C14: نقش مشارکتی استاد مشاور و دیگر اساتید ( 5 امتیاز) | D14: اعم از داشتن مقدمه از اساتید یا مشارکت به عنوان نویسنده | E14: 0
D15: مجموع امتیاز ارزیابی مشارکت (حداکثر 30) | E15: =SUM(E11:E14) -> 0
A16: 3 | B16: ارزیابی محتوایی و علمی ( 35 امتیاز) | C16: جدید، کاربردی، بین رشته ای بودن موضوع کتاب ( 15) | D16: جديد بودن موضوع كتاب (حداكثر 5 امتياز) كاربردي بودن موضوع كتاب (حداكثر 5 امتياز) بين رشته اي بودن موضوع كتاب (حداكثر 5 امتياز) | E16: 0
C17: ارزیابی علمی از جامعیت مطالب و عناوین ذکر شده در کتاب ( 10 امتیاز) | E17: 0
C18: موفقیت های کسب شده ( 10 امتیاز) | D18: در سطح دانشگاهي، منطقه اي و استاني (5 امتياز) در سطح كشوري، ملي و بين المللي (10 امتياز) | E18: 0
D19: مجموع امتیاز ارزیابی کیفی (حداکثر 35) | E19: =SUM(E16:E18) -> 0
D20: جمع کل امتیاز (از 100) | E20: =E10+E15+E19 -> 0
A21: نکات مهم: 1- چنانچه علاوه بر موضوعات جدول فوق نیاز به افزودن توضیحی در ارزیابی خود می بینید، آن توضیح را در قسمت توضیحات ضروری اضافه کنید. 2- اگر در خصوص معیارهای ذکر شده در جدول فوق ابهامی وجود دارد با کارشناس جشنواره حرکت (آقای کرمی) با شماره 82233216 تماس حاصل فرمایید.
A22: توضیحات ضروری:

Sheet اختراع
A1: فرم داوری جشنواره ملی حرکت
A3: بخش انجمن علمی فعال- حوزه اختراع
A5: رديف | B5: شاخص کلان | C5: شاخص جزء | D5: معیار | E5: امتیاز داور
A6: 1 | B6: ارزیابی شکلی (30 امتیاز) | C6: گواهي ثبت در سازمان پژوهش‌های علمی و صنعتی ایران يا تاييد علمي ( 10 امتياز) | E6: 0
C7: طرح مشتری، سرمایه گذار و یا حامی داشته باشد ( 5 امتياز) | E7: 0
C8: سابقه تقدير در جشنواره و مسابقات ملی یا بين‌المللي ( 15 امتياز) | D8: تقدير در سطح ملی تا 10 امتياز تقدير در سطح بین المللی تا 15 امتياز | E8: 0
D9: مجموع امتیاز ارزیابی شکلی (حداکثر 30) | E9: =SUM(E6:E8) -> 0
A10: 2 | B10: ارزیابی میزان مشارکت و همکاری (25 امتیاز) | C10: فعالیت تیمی و گروهی با محوریت اعضای شورای مرکزی (10امتياز) | D10: به ازاء هر عضو شوراي مركزي موثر در طرح (4 امتياز) و به ازاء هر عضو انجمن (حداكثر 2 امتياز) | E10: 0
C11: همکاری با دیگر انجمن های علمی و یا مجموعه های تخصصی ( 5 امتياز) | E11: 0
C12: درج نام یا لوگوی انجمن علمی در دستاوردهای طرح ( 5 امتياز) | E12: 0
C13: نقش مشارکتی استاد مشاور و دیگر اساتید ( 5 امتياز) | E13: 0
D14: مجموع امتیاز ارزیابی مشارکت (حداکثر 25) | E14: =SUM(E10:E13) -> 0
A15: 3 | B15: ارزیابی محتوایی و علمی (30 امتیاز) | C15: ارزیابی كاربردي بودن و زمینه های استفاده از طرح ( 10امتياز) | E15: 0
C16: ارزیابی توجیه صنعتي، اقتصادي، اجتماعي و فرهنگي طرح ( 10 امتياز) | E16: 0
C17: امكان تجاري سازي، مزایا و قدرت رقابتی طرح در مقایسه با نمونه های موجود ( 10 امتياز) | E17: 0
D18: مجموع امتیاز ارزیابی محتوایی (حداکثر30) | E18: =SUM(E15:E17) -> 0
A19: 4 | B19: ارزيابي گزارش و مستندسازي(15امتياز) | C19: انتشار اخبار فعاليت‌ها ( 5 امتياز) | D19: انتشار اخبار فعاليت‌ها در فضاي مجازي، پايگاههاي خبري، سايت‌ها و غيره...(5 امتياز) | E19: 0
C20: رعايت استانداردهاي مستندسازي (10 امتياز) | D20: كيفيت ظاهري گزارش(4 امتياز) | E20: 0
D21: جامع بودن گزارش(6 امتياز) | E21: 0
D22: مجموع امتیاز ارزیابی گزارش مستندسازي (حداکثر15) | E22: =SUM(E19:E21) -> 0
D23: جمع کل امتیاز (از 100) | E23: =E9+E14+E18+E22 -> 0
A24: نکات مهم: 1- چنانچه علاوه بر موضوعات جدول فوق نیاز به افزودن توضیحی در ارزیابی خود می بینید، آن توضیح را در قسمت توضیحات ضروری اضافه کنید. 2- اگر در خصوص معیارهای ذکر شده در جدول فوق ابهامی وجود دارد با کارشناس جشنواره حرکت (آقای کرمی) با شماره 82233216 تماس حاصل فرمایید.
A25: توضیحات ضروری:

Sheet کارآفرینی
A1: فرم داوری جشنواره ملی حرکت
A3: بخش انجمن علمی فعال- حوزه کارآفرینی
A5: رديف | B5: شاخص کلان | C5: شاخص جزء | D5: معیار | E5: امتیاز داور
A6: 1 | B6: ارزیابی شکلی (30 امتیاز) | C6: ارزیابی گزارش طرح و فایل های پیوست (5 امتياز) | E6: 0
C7: طرح مشتری، سرمایه گذار و یا حامی داشته و انجمن علمی از قبال آن ارتباطاتی با بیرون دانشگاه برقرار کرده باشد (10امتياز) | E7: 0
C8: سابقه تقدير در جشنواره و مسابقات ملی یا بين‌المللي ( 15 امتياز) | D8: سطح ملی تا 10 امتياز سطح بین المللی تا 15 امتياز | E8: 0
D9: مجموع امتیاز ارزیابی شکلی (حداکثر 30) | E9: =SUM(E6:E8) -> 0
A10: 2 | B10: ارزیابی میزان مشارکت و همکاری (25 امتیاز) | C10: فعالیت تیمی و گروهی با محوریت اعضای شورای مرکزی (5 امتياز) | E10: 0
C11: همکاری با دیگر انجمن های علمی و یا مجموعه های تخصصی (5 امتياز) | E11: 0
C12: درج نام یا لوگوی انجمن علمی در دستاوردهای عملیاتی طرح (5 امتياز) | E12: 0
C13: نقش مشارکتی استاد مشاور و دیگر اساتید ( 5 امتياز) | E13: 0
C14: گذراندن دوره‌هاي آموزشي مرتبط با كارآفريني توسط همکاران طرح (5 امتیاز) | E14: 0
D15: مجموع امتیاز ارزیابی مشارکت (حداکثر 25) | E15: =SUM(E10:E14) -> 0
A16: 3 | B16: ارزیابی محتوایی و علمی ( 30 امتیاز) | C16: ارزیابی ضرورت اجرا و تناسب طرح با نیازهای جامعه ( 10امتياز) | E16: 0
C17: ارزیابی ذینفعان کلیدی، مشتریان و سرمایه گذاران فعلی یا احتمالی طرح (5 امتياز) | E17: 0
C18: امکان پذیری فنی و اجرائی طرح و ارزیابی آن از حیث بازگشت سرمایه (5 امتياز) | E18: 0
C19: شناسایی رقبا، تشریح مزایای رقابتی و نقشه ادراکی (5 امتياز) | E19: 0
C20: ارزیابی دستاوردهای اجرائی و عملیاتی طرح (5 امتياز) | E20: 0
D21: مجموع امتیاز ارزیابی محتوایی (حداکثر 30) | E21: =SUM(E16:E20) -> 0
A22: 4 | B22: ارزيابي و گزارش مستندسازي(حداكثر 15 امتياز) | C22: انتشار اخبار فعاليت ها(حداكثر 5 امتياز) | D22: انتشار اخبار فعاليت‌ها در فضاي مجازي، پايگاههاي خبري، سايت‌ها و غيره...(5 امتياز) | E22: 0
C23: رعايت استانداردهاي مستندسازي(حداكثر 10 امتياز) | D23: كيفيت ظاهري(4 امتياز) | E23: 0
D24: جامع بودن گزارش(6 امتياز) | E24: 0
D25: مجموع امتياز ارزيابي گزارش مستندسازي(حداكثر 15) | E25: =SUM(E22:E24) -> 0
D26: جمع کل امتیاز (از 100) | E26: =E9+E15+E21+E25 -> 0
A27: نکات مهم: 1- چنانچه علاوه بر موضوعات جدول فوق نیاز به افزودن توضیحی در ارزیابی خود می بینید، آن توضیح را در قسمت توضیحات ضروری اضافه کنید. 2- اگر در خصوص معیارهای ذکر شده در جدول فوق ابهامی وجود دارد با کارشناس جشنواره حرکت (آقای کرمی) با شماره 82233216 تماس حاصل فرمایید.
A28: توضیحات ضروری:

Sheet انجمن برگزیده
A1: فرم داوری جشنواره ملی حرکت
A3: جمعبندی داوری انجمن علمی برگزیده
A5: رديف | B5: شاخص | C5: ارزیابی داور (از 100) | D5: ضریب | E5: امتیاز
A6: 1 | B6: فعالیت های آموزشی | C6: =آموزشی!E24 -> 0 | D6: 0.4 | E6: =C6*D6 -> 0
A7: 2 | B7: فعالیت های ترویجی | C7: =ترویجی!E22 -> 0 | D7: 0.4 | E7: =C7*D7 -> 0
A8: 3 | B8: برگزاری مسابقه علمی | C8: =مسابقه!E21 -> 0 | D8: 0.2 | E8: =C8*D8 -> 0
A9: 4 | B9: نشریه | C9: =نشریه!E18 -> 0 | D9: 0.5 | E9: =C9*D9 -> 0
A10: 5 | B10: کتاب | C10: =کتاب!E20 -> 0 | D10: 0.5 | E10: =C10*D10 -> 0
A11: 6 | B11: اختراع، ابتکار یا نوآوری | C11: =اختراع!E23 -> 0 | D11: 0.5 | E11: =C11*D11 -> 0
A12: 7 | B12: کارآفرینی | C12: =کارآفرینی!E26 -> 0 | D12: 0.5 | E12: =C12*D12 -> 0
D13: جمع امتياز(از 300) | E13: =SUM(E6:E12) -> 0
